BEGIN:VCALENDAR
VERSION:2.0
PRODID:-//tandcschool.org//NONSGML kigkonsult.se iCalcreator 2.30.10//
CALSCALE:GREGORIAN
METHOD:PUBLISH
UID:4275b45a-cb6c-49a5-9dad-c12409e032ab
X-WR-CALDESC:
X-WR-RELCALID:65210fded6a1c41905c8c390822dc3b4
X-WR-TIMEZONE:America/Chicago
BEGIN:VTIMEZONE
TZID:America/Chicago
BEGIN:STANDARD
TZNAME:CST
DTSTART:20231105T020000
TZOFFSETFROM:-0500
TZOFFSETTO:-0600
RDATE:20241103T020000
END:STANDARD
BEGIN:DAYLIGHT
TZNAME:CDT
DTSTART:20230312T020000
TZOFFSETFROM:-0600
TZOFFSETTO:-0500
RDATE:20240310T020000
RDATE:20250309T020000
END:DAYLIGHT
END:VTIMEZONE
BEGIN:VEVENT
UID:34f16a51-c2e8-4b0b-95fe-ec590ff1dde8
DTSTAMP:20260424T083744Z
DESCRIPTION:
DTSTART;TZID=America/Chicago:20231219T180000
DTEND;TZID=America/Chicago:20231219T200000
LOCATION:Home
SUMMARY:Basketball Scrimmage
END:VEVENT
END:VCALENDAR
