BEGIN:VCALENDAR
VERSION:2.0
PRODID:-//tandcschool.org//NONSGML kigkonsult.se iCalcreator 2.30.10//
CALSCALE:GREGORIAN
METHOD:PUBLISH
UID:228a1282-f374-4daa-8117-6439bdc5d587
X-WR-CALDESC:
X-WR-RELCALID:708db72fd3600ec01e35257d368db649
X-WR-TIMEZONE:America/Chicago
BEGIN:VTIMEZONE
TZID:America/Chicago
BEGIN:STANDARD
TZNAME:CST
DTSTART:20231105T020000
TZOFFSETFROM:-0500
TZOFFSETTO:-0600
RDATE:20241103T020000
END:STANDARD
BEGIN:DAYLIGHT
TZNAME:CDT
DTSTART:20230312T020000
TZOFFSETFROM:-0600
TZOFFSETTO:-0500
RDATE:20240310T020000
RDATE:20250309T020000
END:DAYLIGHT
END:VTIMEZONE
BEGIN:VEVENT
UID:2fd067a5-1e3e-4190-a6e9-56713e09f8cd
DTSTAMP:20260424T083312Z
DESCRIPTION:
DTSTART;TZID=America/Chicago:20231218T050000
DTEND;TZID=America/Chicago:20231218T050001
LOCATION:
SUMMARY:Rib Pick Up
END:VEVENT
END:VCALENDAR
