BEGIN:VCALENDAR
VERSION:2.0
PRODID:-//tandcschool.org//NONSGML kigkonsult.se iCalcreator 2.30.10//
CALSCALE:GREGORIAN
METHOD:PUBLISH
UID:1ba6f6eb-4c12-489c-9c9c-7e7a639d286b
X-WR-CALDESC:
X-WR-RELCALID:0bc927a8cfd873df6b4008ea2f95bb2c
X-WR-TIMEZONE:America/Chicago
BEGIN:VTIMEZONE
TZID:America/Chicago
BEGIN:STANDARD
TZNAME:CST
DTSTART:20231105T020000
TZOFFSETFROM:-0500
TZOFFSETTO:-0600
RDATE:20241103T020000
END:STANDARD
BEGIN:DAYLIGHT
TZNAME:CDT
DTSTART:20230312T020000
TZOFFSETFROM:-0600
TZOFFSETTO:-0500
RDATE:20240310T020000
RDATE:20250309T020000
END:DAYLIGHT
END:VTIMEZONE
BEGIN:VEVENT
UID:1658028c-b710-4854-a54b-c7ba6fc6ec42
DTSTAMP:20260424T084940Z
DESCRIPTION:
DTSTART;TZID=America/Chicago:20231218T150000
DTEND;TZID=America/Chicago:20231218T154500
LOCATION:
SUMMARY:Chess Club
END:VEVENT
END:VCALENDAR
