BEGIN:VCALENDAR
VERSION:2.0
PRODID:-//tandcschool.org//NONSGML kigkonsult.se iCalcreator 2.30.10//
CALSCALE:GREGORIAN
METHOD:PUBLISH
UID:0041f4b5-796d-42f4-84ac-75ae1368ff85
X-WR-CALDESC:
X-WR-RELCALID:983e0353d872378f2520dea4c4154d1a
X-WR-TIMEZONE:America/Chicago
BEGIN:VTIMEZONE
TZID:America/Chicago
BEGIN:STANDARD
TZNAME:CST
DTSTART:20231105T020000
TZOFFSETFROM:-0500
TZOFFSETTO:-0600
RDATE:20241103T020000
END:STANDARD
BEGIN:DAYLIGHT
TZNAME:CDT
DTSTART:20230312T020000
TZOFFSETFROM:-0600
TZOFFSETTO:-0500
RDATE:20240310T020000
RDATE:20250309T020000
END:DAYLIGHT
END:VTIMEZONE
BEGIN:VEVENT
UID:f0a9ccba-914e-4d60-bb7c-02066b293d91
DTSTAMP:20260424T085035Z
DESCRIPTION:
DTSTART;TZID=America/Chicago:20231215T150000
DTEND;TZID=America/Chicago:20231215T154500
LOCATION:
SUMMARY:NHS Meeting
END:VEVENT
END:VCALENDAR
