BEGIN:VCALENDAR
VERSION:2.0
PRODID:-//tandcschool.org//NONSGML kigkonsult.se iCalcreator 2.30.10//
CALSCALE:GREGORIAN
METHOD:PUBLISH
UID:fe548533-14de-4a38-b873-06b14c78e547
X-WR-CALDESC:
X-WR-RELCALID:cb8853566941c2c0c3dcc59aa09e5470
X-WR-TIMEZONE:America/Chicago
BEGIN:VTIMEZONE
TZID:America/Chicago
BEGIN:STANDARD
TZNAME:CST
DTSTART:20231105T020000
TZOFFSETFROM:-0500
TZOFFSETTO:-0600
RDATE:20241103T020000
END:STANDARD
BEGIN:DAYLIGHT
TZNAME:CDT
DTSTART:20230312T020000
TZOFFSETFROM:-0600
TZOFFSETTO:-0500
RDATE:20240310T020000
RDATE:20250309T020000
END:DAYLIGHT
END:VTIMEZONE
BEGIN:VEVENT
UID:eeec5536-8d7c-4748-9c93-1bb9e0a920fb
DTSTAMP:20260424T083454Z
DESCRIPTION:
DTSTART;TZID=America/Chicago:20231214T190000
DTEND;TZID=America/Chicago:20231214T203000
LOCATION:Away
SUMMARY:Basketball vs. Adventist (VB)
END:VEVENT
END:VCALENDAR
