BEGIN:VCALENDAR
VERSION:2.0
PRODID:-//tandcschool.org//NONSGML kigkonsult.se iCalcreator 2.30.10//
CALSCALE:GREGORIAN
METHOD:PUBLISH
UID:810a93ae-d5ca-461c-92ed-af7868e3b91e
X-WR-CALDESC:
X-WR-RELCALID:368f8143df824443e3584930a4a24bc6
X-WR-TIMEZONE:America/Chicago
BEGIN:VTIMEZONE
TZID:America/Chicago
BEGIN:STANDARD
TZNAME:CST
DTSTART:20231105T020000
TZOFFSETFROM:-0500
TZOFFSETTO:-0600
RDATE:20241103T020000
END:STANDARD
BEGIN:DAYLIGHT
TZNAME:CDT
DTSTART:20230312T020000
TZOFFSETFROM:-0600
TZOFFSETTO:-0500
RDATE:20240310T020000
RDATE:20250309T020000
END:DAYLIGHT
END:VTIMEZONE
BEGIN:VEVENT
UID:6bf771fa-706b-4dcc-93f2-ea221c45fe15
DTSTAMP:20260424T084112Z
DESCRIPTION:
DTSTART;TZID=America/Chicago:20231214T151500
DTEND;TZID=America/Chicago:20231214T160000
LOCATION:
SUMMARY:Band
END:VEVENT
END:VCALENDAR
