BEGIN:VCALENDAR
VERSION:2.0
PRODID:-//tandcschool.org//NONSGML kigkonsult.se iCalcreator 2.30.10//
CALSCALE:GREGORIAN
METHOD:PUBLISH
UID:615f2e2b-f55b-4839-98b9-8605b467de8d
X-WR-CALDESC:
X-WR-RELCALID:dd0b8b8a84066887ad4e5887135df827
X-WR-TIMEZONE:America/Chicago
BEGIN:VTIMEZONE
TZID:America/Chicago
BEGIN:STANDARD
TZNAME:CST
DTSTART:20231105T020000
TZOFFSETFROM:-0500
TZOFFSETTO:-0600
RDATE:20241103T020000
END:STANDARD
BEGIN:DAYLIGHT
TZNAME:CDT
DTSTART:20230312T020000
TZOFFSETFROM:-0600
TZOFFSETTO:-0500
RDATE:20240310T020000
RDATE:20250309T020000
END:DAYLIGHT
END:VTIMEZONE
BEGIN:VEVENT
UID:b838e2cf-ea50-42fe-b01e-1bda4091e233
DTSTAMP:20260424T084636Z
DESCRIPTION:
DTSTART;TZID=America/Chicago:20231214T150000
DTEND;TZID=America/Chicago:20231214T160000
LOCATION:
SUMMARY:Crochet Club
END:VEVENT
END:VCALENDAR
