BEGIN:VCALENDAR
VERSION:2.0
PRODID:-//tandcschool.org//NONSGML kigkonsult.se iCalcreator 2.30.10//
CALSCALE:GREGORIAN
METHOD:PUBLISH
UID:556f7079-d2a4-4a4b-91f2-56f5b7076127
X-WR-CALDESC:
X-WR-RELCALID:c3e1e5a4b9c53b67004985a0e4cbd70b
X-WR-TIMEZONE:America/Chicago
BEGIN:VTIMEZONE
TZID:America/Chicago
BEGIN:STANDARD
TZNAME:CST
DTSTART:20231105T020000
TZOFFSETFROM:-0500
TZOFFSETTO:-0600
RDATE:20241103T020000
END:STANDARD
BEGIN:DAYLIGHT
TZNAME:CDT
DTSTART:20230312T020000
TZOFFSETFROM:-0600
TZOFFSETTO:-0500
RDATE:20240310T020000
RDATE:20250309T020000
END:DAYLIGHT
END:VTIMEZONE
BEGIN:VEVENT
UID:8c74f416-5e15-45ef-b465-df3b782a716c
DTSTAMP:20260424T090236Z
DESCRIPTION:
DTSTART;TZID=America/Chicago:20231213T152000
DTEND;TZID=America/Chicago:20231213T160000
LOCATION:
SUMMARY:Production Club All
END:VEVENT
END:VCALENDAR
