BEGIN:VCALENDAR
VERSION:2.0
PRODID:-//tandcschool.org//NONSGML kigkonsult.se iCalcreator 2.30.10//
CALSCALE:GREGORIAN
METHOD:PUBLISH
UID:4d198239-ac2f-413f-963c-4eb5b72bad16
X-WR-CALDESC:
X-WR-RELCALID:f60d9df8d13d77e5c70bdc78b65b5091
X-WR-TIMEZONE:America/Chicago
BEGIN:VTIMEZONE
TZID:America/Chicago
BEGIN:STANDARD
TZNAME:CST
DTSTART:20231105T020000
TZOFFSETFROM:-0500
TZOFFSETTO:-0600
RDATE:20241103T020000
END:STANDARD
BEGIN:DAYLIGHT
TZNAME:CDT
DTSTART:20230312T020000
TZOFFSETFROM:-0600
TZOFFSETTO:-0500
RDATE:20240310T020000
RDATE:20250309T020000
END:DAYLIGHT
END:VTIMEZONE
BEGIN:VEVENT
UID:84da72e7-97aa-4937-b09c-5f2abe9787e8
DTSTAMP:20260424T085515Z
DESCRIPTION:
DTSTART;TZID=America/Chicago:20231213T150000
DTEND;TZID=America/Chicago:20231213T160000
LOCATION:
SUMMARY:Art Club Holiday Party
END:VEVENT
END:VCALENDAR
