BEGIN:VCALENDAR
VERSION:2.0
PRODID:-//tandcschool.org//NONSGML kigkonsult.se iCalcreator 2.30.10//
CALSCALE:GREGORIAN
METHOD:PUBLISH
UID:a3722f72-ccc9-4bb0-9119-f5d7b05d294b
X-WR-CALDESC:
X-WR-RELCALID:3f5763a7bf73e351b3c71c893bb1eb9f
X-WR-TIMEZONE:America/Chicago
BEGIN:VTIMEZONE
TZID:America/Chicago
BEGIN:STANDARD
TZNAME:CST
DTSTART:20231105T020000
TZOFFSETFROM:-0500
TZOFFSETTO:-0600
RDATE:20241103T020000
END:STANDARD
BEGIN:DAYLIGHT
TZNAME:CDT
DTSTART:20230312T020000
TZOFFSETFROM:-0600
TZOFFSETTO:-0500
RDATE:20240310T020000
RDATE:20250309T020000
END:DAYLIGHT
END:VTIMEZONE
BEGIN:VEVENT
UID:db60fb3f-d669-43b0-9dff-1aece129d6e1
DTSTAMP:20260424T083744Z
DESCRIPTION:
DTSTART;TZID=America/Chicago:20231213T153000
DTEND;TZID=America/Chicago:20231213T170000
LOCATION:
SUMMARY:Bowling Practice
END:VEVENT
END:VCALENDAR
