BEGIN:VCALENDAR
VERSION:2.0
PRODID:-//tandcschool.org//NONSGML kigkonsult.se iCalcreator 2.30.10//
CALSCALE:GREGORIAN
METHOD:PUBLISH
UID:4e11852c-1c88-467b-8a9c-895b2f8a9241
X-WR-CALDESC:
X-WR-RELCALID:2e4d0e1fb00a0f7895fcfdc8a7f3d5c9
X-WR-TIMEZONE:America/Chicago
BEGIN:VTIMEZONE
TZID:America/Chicago
BEGIN:STANDARD
TZNAME:CST
DTSTART:20231105T020000
TZOFFSETFROM:-0500
TZOFFSETTO:-0600
RDATE:20241103T020000
END:STANDARD
BEGIN:DAYLIGHT
TZNAME:CDT
DTSTART:20230312T020000
TZOFFSETFROM:-0600
TZOFFSETTO:-0500
RDATE:20240310T020000
RDATE:20250309T020000
END:DAYLIGHT
END:VTIMEZONE
BEGIN:VEVENT
UID:8f8c00ae-18b0-494f-a2a0-e8b3896e64e9
DTSTAMP:20260424T085213Z
DESCRIPTION:
DTSTART;TZID=America/Chicago:20231211T152000
DTEND;TZID=America/Chicago:20231211T163000
LOCATION:
SUMMARY:Oz Cast & Parent Meeting
END:VEVENT
END:VCALENDAR
