BEGIN:VCALENDAR
VERSION:2.0
PRODID:-//tandcschool.org//NONSGML kigkonsult.se iCalcreator 2.30.10//
CALSCALE:GREGORIAN
METHOD:PUBLISH
UID:1bb6991f-1215-439f-a901-3e3b5cca2bf6
X-WR-CALDESC:
X-WR-RELCALID:b9d0dc7af76b987dee3696495bb199f8
X-WR-TIMEZONE:America/Chicago
BEGIN:VTIMEZONE
TZID:America/Chicago
BEGIN:STANDARD
TZNAME:CST
DTSTART:20231105T020000
TZOFFSETFROM:-0500
TZOFFSETTO:-0600
RDATE:20241103T020000
END:STANDARD
BEGIN:DAYLIGHT
TZNAME:CDT
DTSTART:20230312T020000
TZOFFSETFROM:-0600
TZOFFSETTO:-0500
RDATE:20240310T020000
RDATE:20250309T020000
END:DAYLIGHT
END:VTIMEZONE
BEGIN:VEVENT
UID:0b22aa18-c8e1-4b6c-89b4-92fe07c9f897
DTSTAMP:20260424T084215Z
DESCRIPTION:
DTSTART;TZID=America/Chicago:20231211T150000
DTEND;TZID=America/Chicago:20231211T154500
LOCATION:
SUMMARY:Chess Club
END:VEVENT
END:VCALENDAR
