BEGIN:VCALENDAR
VERSION:2.0
PRODID:-//tandcschool.org//NONSGML kigkonsult.se iCalcreator 2.30.10//
CALSCALE:GREGORIAN
METHOD:PUBLISH
UID:d2f57a86-da4e-4e5d-b9bb-9c03e8c2c531
X-WR-CALDESC:
X-WR-RELCALID:99ffe64dde8b6536be4bf5204fd78286
X-WR-TIMEZONE:America/Chicago
BEGIN:VTIMEZONE
TZID:America/Chicago
BEGIN:STANDARD
TZNAME:CST
DTSTART:20231105T020000
TZOFFSETFROM:-0500
TZOFFSETTO:-0600
RDATE:20241103T020000
END:STANDARD
BEGIN:DAYLIGHT
TZNAME:CDT
DTSTART:20230312T020000
TZOFFSETFROM:-0600
TZOFFSETTO:-0500
RDATE:20240310T020000
RDATE:20250309T020000
END:DAYLIGHT
END:VTIMEZONE
BEGIN:VEVENT
UID:6021e804-5193-44d8-ad51-5fd25f53bd1e
DTSTAMP:20260424T083617Z
DESCRIPTION:
DTSTART;TZID=America/Chicago:20231211T150000
DTEND;TZID=America/Chicago:20231211T160000
LOCATION:
SUMMARY:Cheer
END:VEVENT
END:VCALENDAR
