BEGIN:VCALENDAR
VERSION:2.0
PRODID:-//tandcschool.org//NONSGML kigkonsult.se iCalcreator 2.30.10//
CALSCALE:GREGORIAN
METHOD:PUBLISH
UID:d7d47bb6-4ad6-474c-942b-8c27fae405f6
X-WR-CALDESC:
X-WR-RELCALID:8c95d3a4a5fefd26e7f5b3740ea061f0
X-WR-TIMEZONE:America/Chicago
BEGIN:VTIMEZONE
TZID:America/Chicago
BEGIN:STANDARD
TZNAME:CST
DTSTART:20231105T020000
TZOFFSETFROM:-0500
TZOFFSETTO:-0600
RDATE:20241103T020000
END:STANDARD
BEGIN:DAYLIGHT
TZNAME:CDT
DTSTART:20230312T020000
TZOFFSETFROM:-0600
TZOFFSETTO:-0500
RDATE:20240310T020000
RDATE:20250309T020000
END:DAYLIGHT
END:VTIMEZONE
BEGIN:VEVENT
UID:74f8d992-b8b6-4d8d-ac56-00d1abf6f13e
DTSTAMP:20260424T083505Z
DESCRIPTION:
DTSTART;TZID=America/Chicago:20231208T000000
DTEND;TZID=America/Chicago:20231208T235900
LOCATION:
SUMMARY:Fast Food Friday
END:VEVENT
END:VCALENDAR
