BEGIN:VCALENDAR
VERSION:2.0
PRODID:-//tandcschool.org//NONSGML kigkonsult.se iCalcreator 2.30.10//
CALSCALE:GREGORIAN
METHOD:PUBLISH
UID:b64682f2-7e93-4c5e-b3cb-9609dca43f5c
X-WR-CALDESC:
X-WR-RELCALID:51456c2713bc0992b47a63ff89a787ae
X-WR-TIMEZONE:America/Chicago
BEGIN:VTIMEZONE
TZID:America/Chicago
BEGIN:STANDARD
TZNAME:CST
DTSTART:20231105T020000
TZOFFSETFROM:-0500
TZOFFSETTO:-0600
RDATE:20241103T020000
END:STANDARD
BEGIN:DAYLIGHT
TZNAME:CDT
DTSTART:20230312T020000
TZOFFSETFROM:-0600
TZOFFSETTO:-0500
RDATE:20240310T020000
RDATE:20250309T020000
END:DAYLIGHT
END:VTIMEZONE
BEGIN:VEVENT
UID:9c3e66a8-82bf-4780-a6af-dc0922f72feb
DTSTAMP:20260424T083628Z
DESCRIPTION:
DTSTART;TZID=America/Chicago:20231208T150000
DTEND;TZID=America/Chicago:20231208T154500
LOCATION:
SUMMARY:E-Gaming Club A
END:VEVENT
END:VCALENDAR
