BEGIN:VCALENDAR
VERSION:2.0
PRODID:-//tandcschool.org//NONSGML kigkonsult.se iCalcreator 2.30.10//
CALSCALE:GREGORIAN
METHOD:PUBLISH
UID:e4bbbf18-6457-48cc-bb5c-7082ec372a6f
X-WR-CALDESC:
X-WR-RELCALID:4878e5331a6c2a950e377da67dff26e7
X-WR-TIMEZONE:America/Chicago
BEGIN:VTIMEZONE
TZID:America/Chicago
BEGIN:STANDARD
TZNAME:CST
DTSTART:20231105T020000
TZOFFSETFROM:-0500
TZOFFSETTO:-0600
RDATE:20241103T020000
END:STANDARD
BEGIN:DAYLIGHT
TZNAME:CDT
DTSTART:20230312T020000
TZOFFSETFROM:-0600
TZOFFSETTO:-0500
RDATE:20240310T020000
RDATE:20250309T020000
END:DAYLIGHT
END:VTIMEZONE
BEGIN:VEVENT
UID:be4f9716-717e-4e39-ba91-e7bf0635c23c
DTSTAMP:20260424T085245Z
DESCRIPTION:
DTSTART;TZID=America/Chicago:20231208T150000
DTEND;TZID=America/Chicago:20231208T154500
LOCATION:
SUMMARY:Astronomy Club
END:VEVENT
END:VCALENDAR
