BEGIN:VCALENDAR
VERSION:2.0
PRODID:-//tandcschool.org//NONSGML kigkonsult.se iCalcreator 2.30.10//
CALSCALE:GREGORIAN
METHOD:PUBLISH
UID:1991d93f-9999-465e-b7cc-654d5b724a2a
X-WR-CALDESC:
X-WR-RELCALID:c07bd85249843b1146a363f3c6dae217
X-WR-TIMEZONE:America/Chicago
BEGIN:VTIMEZONE
TZID:America/Chicago
BEGIN:STANDARD
TZNAME:CST
DTSTART:20231105T020000
TZOFFSETFROM:-0500
TZOFFSETTO:-0600
RDATE:20241103T020000
END:STANDARD
BEGIN:DAYLIGHT
TZNAME:CDT
DTSTART:20230312T020000
TZOFFSETFROM:-0600
TZOFFSETTO:-0500
RDATE:20240310T020000
RDATE:20250309T020000
END:DAYLIGHT
END:VTIMEZONE
BEGIN:VEVENT
UID:7f2417be-3298-4036-87c5-e2743cdbccd9
DTSTAMP:20260424T085245Z
DESCRIPTION:
DTSTART;TZID=America/Chicago:20231207T151500
DTEND;TZID=America/Chicago:20231207T160000
LOCATION:
SUMMARY:Band
END:VEVENT
END:VCALENDAR
