BEGIN:VCALENDAR
VERSION:2.0
PRODID:-//tandcschool.org//NONSGML kigkonsult.se iCalcreator 2.30.10//
CALSCALE:GREGORIAN
METHOD:PUBLISH
UID:a28b2758-d335-4c23-bde2-f3fbffae042c
X-WR-CALDESC:
X-WR-RELCALID:a6ac3b4067b049e329f15d213e19264e
X-WR-TIMEZONE:America/Chicago
BEGIN:VTIMEZONE
TZID:America/Chicago
BEGIN:STANDARD
TZNAME:CST
DTSTART:20231105T020000
TZOFFSETFROM:-0500
TZOFFSETTO:-0600
RDATE:20241103T020000
END:STANDARD
BEGIN:DAYLIGHT
TZNAME:CDT
DTSTART:20230312T020000
TZOFFSETFROM:-0600
TZOFFSETTO:-0500
RDATE:20240310T020000
RDATE:20250309T020000
END:DAYLIGHT
END:VTIMEZONE
BEGIN:VEVENT
UID:eb218912-844e-4a93-b86a-d8308c162ba9
DTSTAMP:20260424T084636Z
DESCRIPTION:
DTSTART;TZID=America/Chicago:20231207T150000
DTEND;TZID=America/Chicago:20231207T160000
LOCATION:
SUMMARY:Crochet Club
END:VEVENT
END:VCALENDAR
