BEGIN:VCALENDAR
VERSION:2.0
PRODID:-//tandcschool.org//NONSGML kigkonsult.se iCalcreator 2.30.10//
CALSCALE:GREGORIAN
METHOD:PUBLISH
UID:7ad0abe4-388a-473a-9600-f2d81826e136
X-WR-CALDESC:
X-WR-RELCALID:0c1bd908d5cb683dcda5a493987d84b3
X-WR-TIMEZONE:America/Chicago
BEGIN:VTIMEZONE
TZID:America/Chicago
BEGIN:STANDARD
TZNAME:CST
DTSTART:20231105T020000
TZOFFSETFROM:-0500
TZOFFSETTO:-0600
RDATE:20241103T020000
END:STANDARD
BEGIN:DAYLIGHT
TZNAME:CDT
DTSTART:20230312T020000
TZOFFSETFROM:-0600
TZOFFSETTO:-0500
RDATE:20240310T020000
RDATE:20250309T020000
END:DAYLIGHT
END:VTIMEZONE
BEGIN:VEVENT
UID:4e505f0c-269d-47f8-99d1-9447d543943e
DTSTAMP:20260424T083617Z
DESCRIPTION:
DTSTART;TZID=America/Chicago:20231206T152000
DTEND;TZID=America/Chicago:20231206T160000
LOCATION:
SUMMARY:Production Club B
END:VEVENT
END:VCALENDAR
