BEGIN:VCALENDAR
VERSION:2.0
PRODID:-//tandcschool.org//NONSGML kigkonsult.se iCalcreator 2.30.10//
CALSCALE:GREGORIAN
METHOD:PUBLISH
UID:07d3a094-2c6d-43ab-8d24-1a33826c9cf0
X-WR-CALDESC:
X-WR-RELCALID:e2c123a5c69c1df00d2fb9dbd8a0f7b9
X-WR-TIMEZONE:America/Chicago
BEGIN:VTIMEZONE
TZID:America/Chicago
BEGIN:STANDARD
TZNAME:CST
DTSTART:20231105T020000
TZOFFSETFROM:-0500
TZOFFSETTO:-0600
RDATE:20241103T020000
END:STANDARD
BEGIN:DAYLIGHT
TZNAME:CDT
DTSTART:20230312T020000
TZOFFSETFROM:-0600
TZOFFSETTO:-0500
RDATE:20240310T020000
RDATE:20250309T020000
END:DAYLIGHT
END:VTIMEZONE
BEGIN:VEVENT
UID:b165ec39-0353-4c27-859e-37587f4e22ae
DTSTAMP:20260424T083505Z
DESCRIPTION:
DTSTART;TZID=America/Chicago:20231206T153000
DTEND;TZID=America/Chicago:20231206T170000
LOCATION:
SUMMARY:Bowling Practice
END:VEVENT
END:VCALENDAR
