BEGIN:VCALENDAR
VERSION:2.0
PRODID:-//tandcschool.org//NONSGML kigkonsult.se iCalcreator 2.30.10//
CALSCALE:GREGORIAN
METHOD:PUBLISH
UID:06864518-fb24-4feb-b579-14202f85ab84
X-WR-CALDESC:
X-WR-RELCALID:4dee2950cdf34f63c2c42081d276be9a
X-WR-TIMEZONE:America/Chicago
BEGIN:VTIMEZONE
TZID:America/Chicago
BEGIN:STANDARD
TZNAME:CST
DTSTART:20231105T020000
TZOFFSETFROM:-0500
TZOFFSETTO:-0600
RDATE:20241103T020000
END:STANDARD
BEGIN:DAYLIGHT
TZNAME:CDT
DTSTART:20230312T020000
TZOFFSETFROM:-0600
TZOFFSETTO:-0500
RDATE:20240310T020000
RDATE:20250309T020000
END:DAYLIGHT
END:VTIMEZONE
BEGIN:VEVENT
UID:5d956d3d-3f83-4cdc-b88c-e98a5cdd7be4
DTSTAMP:20260424T083801Z
DESCRIPTION:
DTSTART;TZID=America/Chicago:20231205T152000
DTEND;TZID=America/Chicago:20231205T160000
LOCATION:
SUMMARY:LS Lego Club
END:VEVENT
END:VCALENDAR
