BEGIN:VCALENDAR
VERSION:2.0
PRODID:-//tandcschool.org//NONSGML kigkonsult.se iCalcreator 2.30.10//
CALSCALE:GREGORIAN
METHOD:PUBLISH
UID:3c04e8a5-28e7-4d08-aaf6-f50728288838
X-WR-CALDESC:
X-WR-RELCALID:4f36e3daa549a748b093b36aec740cb8
X-WR-TIMEZONE:America/Chicago
BEGIN:VTIMEZONE
TZID:America/Chicago
BEGIN:STANDARD
TZNAME:CST
DTSTART:20231105T020000
TZOFFSETFROM:-0500
TZOFFSETTO:-0600
RDATE:20241103T020000
END:STANDARD
BEGIN:DAYLIGHT
TZNAME:CDT
DTSTART:20230312T020000
TZOFFSETFROM:-0600
TZOFFSETTO:-0500
RDATE:20240310T020000
RDATE:20250309T020000
END:DAYLIGHT
END:VTIMEZONE
BEGIN:VEVENT
UID:5f76e7d9-7de1-4363-9ca4-9cf720e2a383
DTSTAMP:20260424T083119Z
DESCRIPTION:
DTSTART;TZID=America/Chicago:20231205T153000
DTEND;TZID=America/Chicago:20231205T170000
LOCATION:
SUMMARY:Cooking Class B
END:VEVENT
END:VCALENDAR
