BEGIN:VCALENDAR
VERSION:2.0
PRODID:-//tandcschool.org//NONSGML kigkonsult.se iCalcreator 2.30.10//
CALSCALE:GREGORIAN
METHOD:PUBLISH
UID:0d893441-515d-4bf2-9c07-67bec59424b2
X-WR-CALDESC:
X-WR-RELCALID:1810628e2114bbb5efdff6242c4d438a
X-WR-TIMEZONE:America/Chicago
BEGIN:VTIMEZONE
TZID:America/Chicago
BEGIN:STANDARD
TZNAME:CST
DTSTART:20231105T020000
TZOFFSETFROM:-0500
TZOFFSETTO:-0600
RDATE:20241103T020000
END:STANDARD
BEGIN:DAYLIGHT
TZNAME:CDT
DTSTART:20230312T020000
TZOFFSETFROM:-0600
TZOFFSETTO:-0500
RDATE:20240310T020000
RDATE:20250309T020000
END:DAYLIGHT
END:VTIMEZONE
BEGIN:VEVENT
UID:cf915193-6350-488c-ab11-fe21c548e11b
DTSTAMP:20260424T085234Z
DESCRIPTION:
DTSTART;TZID=America/Chicago:20231204T150000
DTEND;TZID=America/Chicago:20231204T154500
LOCATION:
SUMMARY:Chess Club
END:VEVENT
END:VCALENDAR
