BEGIN:VCALENDAR
VERSION:2.0
PRODID:-//tandcschool.org//NONSGML kigkonsult.se iCalcreator 2.30.10//
CALSCALE:GREGORIAN
METHOD:PUBLISH
UID:23ada4b6-6a0d-4728-b379-5d78ac1f9b8f
X-WR-CALDESC:
X-WR-RELCALID:6d2b3c1c0f796d09dad432d63f785f59
X-WR-TIMEZONE:America/Chicago
BEGIN:VTIMEZONE
TZID:America/Chicago
BEGIN:STANDARD
TZNAME:CST
DTSTART:20231105T020000
TZOFFSETFROM:-0500
TZOFFSETTO:-0600
RDATE:20241103T020000
END:STANDARD
BEGIN:DAYLIGHT
TZNAME:CDT
DTSTART:20230312T020000
TZOFFSETFROM:-0600
TZOFFSETTO:-0500
RDATE:20240310T020000
RDATE:20250309T020000
END:DAYLIGHT
END:VTIMEZONE
BEGIN:VEVENT
UID:0aad4063-5bc0-41e0-8076-8d5ed8afc0c3
DTSTAMP:20260424T083829Z
DESCRIPTION:
DTSTART;TZID=America/Chicago:20231204T150000
DTEND;TZID=America/Chicago:20231204T160000
LOCATION:
SUMMARY:Cheer
END:VEVENT
END:VCALENDAR
