BEGIN:VCALENDAR
VERSION:2.0
PRODID:-//tandcschool.org//NONSGML kigkonsult.se iCalcreator 2.30.10//
CALSCALE:GREGORIAN
METHOD:PUBLISH
UID:7a0b64ec-f4c3-4d0d-bac3-4406accc87c7
X-WR-CALDESC:
X-WR-RELCALID:e720bc63c78e3abcbd242c92d79201ac
X-WR-TIMEZONE:America/Chicago
BEGIN:VTIMEZONE
TZID:America/Chicago
BEGIN:STANDARD
TZNAME:CST
DTSTART:20231105T020000
TZOFFSETFROM:-0500
TZOFFSETTO:-0600
RDATE:20241103T020000
END:STANDARD
BEGIN:DAYLIGHT
TZNAME:CDT
DTSTART:20230312T020000
TZOFFSETFROM:-0600
TZOFFSETTO:-0500
RDATE:20240310T020000
RDATE:20250309T020000
END:DAYLIGHT
END:VTIMEZONE
BEGIN:VEVENT
UID:8a7d8d78-0b45-48b1-a7d2-d52f15c95b07
DTSTAMP:20260424T090022Z
DESCRIPTION:
DTSTART;TZID=America/Chicago:20231204T150000
DTEND;TZID=America/Chicago:20231204T154500
LOCATION:
SUMMARY:Bible Club
END:VEVENT
END:VCALENDAR
