BEGIN:VCALENDAR
VERSION:2.0
PRODID:-//tandcschool.org//NONSGML kigkonsult.se iCalcreator 2.30.10//
CALSCALE:GREGORIAN
METHOD:PUBLISH
UID:88095cbd-ced3-4dc1-8913-ee0e07dc293e
X-WR-CALDESC:
X-WR-RELCALID:5fa1e5c49a2c1f74ebee3b767a5b528b
X-WR-TIMEZONE:America/Chicago
BEGIN:VTIMEZONE
TZID:America/Chicago
BEGIN:STANDARD
TZNAME:CST
DTSTART:20231105T020000
TZOFFSETFROM:-0500
TZOFFSETTO:-0600
RDATE:20241103T020000
END:STANDARD
BEGIN:DAYLIGHT
TZNAME:CDT
DTSTART:20230312T020000
TZOFFSETFROM:-0600
TZOFFSETTO:-0500
RDATE:20240310T020000
RDATE:20250309T020000
END:DAYLIGHT
END:VTIMEZONE
BEGIN:VEVENT
UID:5faff318-f410-4e06-80c6-b99cae4e82cf
DTSTAMP:20260424T100812Z
DESCRIPTION:
DTSTART;TZID=America/Chicago:20231130T180000
DTEND;TZID=America/Chicago:20231130T193000
LOCATION:Home
SUMMARY:Basketball Scrimmage
END:VEVENT
END:VCALENDAR
