BEGIN:VCALENDAR
VERSION:2.0
PRODID:-//tandcschool.org//NONSGML kigkonsult.se iCalcreator 2.30.10//
CALSCALE:GREGORIAN
METHOD:PUBLISH
UID:db83c448-ef73-4ba4-91b4-c7de69f2ab78
X-WR-CALDESC:
X-WR-RELCALID:570b4990ee6746fa089fce6753c0e224
X-WR-TIMEZONE:America/Chicago
BEGIN:VTIMEZONE
TZID:America/Chicago
BEGIN:STANDARD
TZNAME:CST
DTSTART:20231105T020000
TZOFFSETFROM:-0500
TZOFFSETTO:-0600
RDATE:20241103T020000
END:STANDARD
BEGIN:DAYLIGHT
TZNAME:CDT
DTSTART:20230312T020000
TZOFFSETFROM:-0600
TZOFFSETTO:-0500
RDATE:20240310T020000
RDATE:20250309T020000
END:DAYLIGHT
END:VTIMEZONE
BEGIN:VEVENT
UID:8b7ebf38-c9c1-4bd5-8041-9bf90e473a7e
DTSTAMP:20260424T100455Z
DESCRIPTION:
DTSTART;TZID=America/Chicago:20231130T151500
DTEND;TZID=America/Chicago:20231130T160000
LOCATION:
SUMMARY:Band
END:VEVENT
END:VCALENDAR
