BEGIN:VCALENDAR
VERSION:2.0
PRODID:-//tandcschool.org//NONSGML kigkonsult.se iCalcreator 2.30.10//
CALSCALE:GREGORIAN
METHOD:PUBLISH
UID:52536d44-1fce-4458-ad18-1d8de29527e2
X-WR-CALDESC:
X-WR-RELCALID:25048eff5b664e3b3585efa1a5c67d32
X-WR-TIMEZONE:America/Chicago
BEGIN:VTIMEZONE
TZID:America/Chicago
BEGIN:STANDARD
TZNAME:CST
DTSTART:20231105T020000
TZOFFSETFROM:-0500
TZOFFSETTO:-0600
RDATE:20241103T020000
END:STANDARD
BEGIN:DAYLIGHT
TZNAME:CDT
DTSTART:20230312T020000
TZOFFSETFROM:-0600
TZOFFSETTO:-0500
RDATE:20240310T020000
RDATE:20250309T020000
END:DAYLIGHT
END:VTIMEZONE
BEGIN:VEVENT
UID:1154dffb-5b4b-41cb-8205-ea83a18f42cd
DTSTAMP:20260424T100936Z
DESCRIPTION:
DTSTART;TZID=America/Chicago:20231129T152000
DTEND;TZID=America/Chicago:20231129T160000
LOCATION:
SUMMARY:Production Club Group A
END:VEVENT
END:VCALENDAR
