BEGIN:VCALENDAR
VERSION:2.0
PRODID:-//tandcschool.org//NONSGML kigkonsult.se iCalcreator 2.30.10//
CALSCALE:GREGORIAN
METHOD:PUBLISH
UID:0eafb956-9a5d-40bf-a775-70d400fc6f7d
X-WR-CALDESC:
X-WR-RELCALID:563dbed83447a83a5c16e06606579360
X-WR-TIMEZONE:America/Chicago
BEGIN:VTIMEZONE
TZID:America/Chicago
BEGIN:STANDARD
TZNAME:CST
DTSTART:20231105T020000
TZOFFSETFROM:-0500
TZOFFSETTO:-0600
RDATE:20241103T020000
END:STANDARD
BEGIN:DAYLIGHT
TZNAME:CDT
DTSTART:20230312T020000
TZOFFSETFROM:-0600
TZOFFSETTO:-0500
RDATE:20240310T020000
RDATE:20250309T020000
END:DAYLIGHT
END:VTIMEZONE
BEGIN:VEVENT
UID:9ea1a9bf-57b8-4faa-b0d1-676bbf895674
DTSTAMP:20260424T101024Z
DESCRIPTION:
DTSTART;TZID=America/Chicago:20231129T150000
DTEND;TZID=America/Chicago:20231129T154500
LOCATION:
SUMMARY:HS Art Club
END:VEVENT
END:VCALENDAR
