BEGIN:VCALENDAR
VERSION:2.0
PRODID:-//tandcschool.org//NONSGML kigkonsult.se iCalcreator 2.30.10//
CALSCALE:GREGORIAN
METHOD:PUBLISH
UID:08878508-fcaa-4751-b435-45ac3360f039
X-WR-CALDESC:
X-WR-RELCALID:309507c8fa1876bae1204e16d78aaa00
X-WR-TIMEZONE:America/Chicago
BEGIN:VTIMEZONE
TZID:America/Chicago
BEGIN:STANDARD
TZNAME:CST
DTSTART:20231105T020000
TZOFFSETFROM:-0500
TZOFFSETTO:-0600
RDATE:20241103T020000
END:STANDARD
BEGIN:DAYLIGHT
TZNAME:CDT
DTSTART:20230312T020000
TZOFFSETFROM:-0600
TZOFFSETTO:-0500
RDATE:20240310T020000
RDATE:20250309T020000
END:DAYLIGHT
END:VTIMEZONE
BEGIN:VEVENT
UID:f3f327e8-0869-4c6b-b660-ca5111309d62
DTSTAMP:20260424T100358Z
DESCRIPTION:
DTSTART;TZID=America/Chicago:20231129T153000
DTEND;TZID=America/Chicago:20231129T170000
LOCATION:
SUMMARY:Bowling
END:VEVENT
END:VCALENDAR
