BEGIN:VCALENDAR
VERSION:2.0
PRODID:-//tandcschool.org//NONSGML kigkonsult.se iCalcreator 2.30.10//
CALSCALE:GREGORIAN
METHOD:PUBLISH
UID:ebc7264a-14a8-4a86-9570-5a8d9695adcc
X-WR-CALDESC:
X-WR-RELCALID:affe3a5954229b8b9bda94764146e239
X-WR-TIMEZONE:America/Chicago
BEGIN:VTIMEZONE
TZID:America/Chicago
BEGIN:STANDARD
TZNAME:CST
DTSTART:20231105T020000
TZOFFSETFROM:-0500
TZOFFSETTO:-0600
RDATE:20241103T020000
END:STANDARD
BEGIN:DAYLIGHT
TZNAME:CDT
DTSTART:20230312T020000
TZOFFSETFROM:-0600
TZOFFSETTO:-0500
RDATE:20240310T020000
RDATE:20250309T020000
END:DAYLIGHT
END:VTIMEZONE
BEGIN:VEVENT
UID:4bdb428b-c370-40f6-9f39-13083d20d5b3
DTSTAMP:20260424T103402Z
DESCRIPTION:
DTSTART;TZID=America/Chicago:20231128T173000
DTEND;TZID=America/Chicago:20231128T183000
LOCATION:
SUMMARY:Parental Choice Tax Credit Meeting
END:VEVENT
END:VCALENDAR
