BEGIN:VCALENDAR
VERSION:2.0
PRODID:-//tandcschool.org//NONSGML kigkonsult.se iCalcreator 2.30.10//
CALSCALE:GREGORIAN
METHOD:PUBLISH
UID:08b30a63-2d44-4aa6-a8ad-d6002da75a44
X-WR-CALDESC:
X-WR-RELCALID:db8e98322a03f76e5558fb105f6a442f
X-WR-TIMEZONE:America/Chicago
BEGIN:VTIMEZONE
TZID:America/Chicago
BEGIN:STANDARD
TZNAME:CST
DTSTART:20231105T020000
TZOFFSETFROM:-0500
TZOFFSETTO:-0600
RDATE:20241103T020000
END:STANDARD
BEGIN:DAYLIGHT
TZNAME:CDT
DTSTART:20230312T020000
TZOFFSETFROM:-0600
TZOFFSETTO:-0500
RDATE:20240310T020000
RDATE:20250309T020000
END:DAYLIGHT
END:VTIMEZONE
BEGIN:VEVENT
UID:226daba2-88ff-4595-8cb9-b46a664ccde1
DTSTAMP:20260424T103402Z
DESCRIPTION:
DTSTART;TZID=America/Chicago:20231128T120000
DTEND;TZID=America/Chicago:20231128T130000
LOCATION:
SUMMARY:Parental Choice Tax Credit Meeting
END:VEVENT
END:VCALENDAR
