BEGIN:VCALENDAR
VERSION:2.0
PRODID:-//tandcschool.org//NONSGML kigkonsult.se iCalcreator 2.30.10//
CALSCALE:GREGORIAN
METHOD:PUBLISH
UID:730cb9bc-4a4c-4176-bd77-545c337a7548
X-WR-CALDESC:
X-WR-RELCALID:53e65bff1ea672ff2ed01679a375dfc3
X-WR-TIMEZONE:America/Chicago
BEGIN:VTIMEZONE
TZID:America/Chicago
BEGIN:STANDARD
TZNAME:CST
DTSTART:20231105T020000
TZOFFSETFROM:-0500
TZOFFSETTO:-0600
RDATE:20241103T020000
END:STANDARD
BEGIN:DAYLIGHT
TZNAME:CDT
DTSTART:20230312T020000
TZOFFSETFROM:-0600
TZOFFSETTO:-0500
RDATE:20240310T020000
RDATE:20250309T020000
END:DAYLIGHT
END:VTIMEZONE
BEGIN:VEVENT
UID:1e41741d-88e0-4a6e-b1f0-3214d5d89ef4
DTSTAMP:20260424T100812Z
DESCRIPTION:
DTSTART;TZID=America/Chicago:20231128T150000
DTEND;TZID=America/Chicago:20231128T154500
LOCATION:
SUMMARY:MS Lego Club
END:VEVENT
END:VCALENDAR
