BEGIN:VCALENDAR
VERSION:2.0
PRODID:-//tandcschool.org//NONSGML kigkonsult.se iCalcreator 2.30.10//
CALSCALE:GREGORIAN
METHOD:PUBLISH
UID:493c3487-eeff-4ff3-b5ff-9028fa9f3006
X-WR-CALDESC:
X-WR-RELCALID:476fda6352d2705a827242b2d339c2e4
X-WR-TIMEZONE:America/Chicago
BEGIN:VTIMEZONE
TZID:America/Chicago
BEGIN:STANDARD
TZNAME:CST
DTSTART:20231105T020000
TZOFFSETFROM:-0500
TZOFFSETTO:-0600
RDATE:20241103T020000
END:STANDARD
BEGIN:DAYLIGHT
TZNAME:CDT
DTSTART:20230312T020000
TZOFFSETFROM:-0600
TZOFFSETTO:-0500
RDATE:20240310T020000
RDATE:20250309T020000
END:DAYLIGHT
END:VTIMEZONE
BEGIN:VEVENT
UID:ac658e73-36a8-405b-b023-e69686d19b70
DTSTAMP:20260424T100644Z
DESCRIPTION:
DTSTART;TZID=America/Chicago:20231128T050000
DTEND;TZID=America/Chicago:20231128T050001
LOCATION:
SUMMARY:Giving Tuesday Campaign
END:VEVENT
END:VCALENDAR
