BEGIN:VCALENDAR
VERSION:2.0
PRODID:-//tandcschool.org//NONSGML kigkonsult.se iCalcreator 2.30.10//
CALSCALE:GREGORIAN
METHOD:PUBLISH
UID:77b8ff31-440d-4e26-a067-cf269ad0e22e
X-WR-CALDESC:
X-WR-RELCALID:aa97fd3c1ca78bec702947aa01102188
X-WR-TIMEZONE:America/Chicago
BEGIN:VTIMEZONE
TZID:America/Chicago
BEGIN:STANDARD
TZNAME:CST
DTSTART:20231105T020000
TZOFFSETFROM:-0500
TZOFFSETTO:-0600
RDATE:20241103T020000
END:STANDARD
BEGIN:DAYLIGHT
TZNAME:CDT
DTSTART:20230312T020000
TZOFFSETFROM:-0600
TZOFFSETTO:-0500
RDATE:20240310T020000
RDATE:20250309T020000
END:DAYLIGHT
END:VTIMEZONE
BEGIN:VEVENT
UID:21e6a457-ca52-4efc-bacb-4a614bab3efc
DTSTAMP:20260424T102238Z
DESCRIPTION:
DTSTART;TZID=America/Chicago:20231115T152000
DTEND;TZID=America/Chicago:20231115T160000
LOCATION:
SUMMARY:Production Club- All Groups
END:VEVENT
END:VCALENDAR
