BEGIN:VCALENDAR
VERSION:2.0
PRODID:-//tandcschool.org//NONSGML kigkonsult.se iCalcreator 2.30.10//
CALSCALE:GREGORIAN
METHOD:PUBLISH
UID:228c0359-5b2e-46e1-89fc-6e16a69baee0
X-WR-CALDESC:
X-WR-RELCALID:0d9380bbb2ea8e97e605a6d983c480ba
X-WR-TIMEZONE:America/Chicago
BEGIN:VTIMEZONE
TZID:America/Chicago
BEGIN:STANDARD
TZNAME:CST
DTSTART:20231105T020000
TZOFFSETFROM:-0500
TZOFFSETTO:-0600
RDATE:20241103T020000
END:STANDARD
BEGIN:DAYLIGHT
TZNAME:CDT
DTSTART:20230312T020000
TZOFFSETFROM:-0600
TZOFFSETTO:-0500
RDATE:20240310T020000
RDATE:20250309T020000
END:DAYLIGHT
END:VTIMEZONE
BEGIN:VEVENT
UID:b3986158-ee25-44ce-b709-76c0fcef3976
DTSTAMP:20260424T102325Z
DESCRIPTION:
DTSTART;TZID=America/Chicago:20231115T150000
DTEND;TZID=America/Chicago:20231115T160000
LOCATION:
SUMMARY:LS/MS/HS Art Club Holiday Party
END:VEVENT
END:VCALENDAR
