BEGIN:VCALENDAR
VERSION:2.0
PRODID:-//tandcschool.org//NONSGML kigkonsult.se iCalcreator 2.30.10//
CALSCALE:GREGORIAN
METHOD:PUBLISH
UID:db3a666b-4340-4d18-9a5f-db8d0744efff
X-WR-CALDESC:
X-WR-RELCALID:3df91350210fea2f969a11ac52a50f9c
X-WR-TIMEZONE:America/Chicago
BEGIN:VTIMEZONE
TZID:America/Chicago
BEGIN:STANDARD
TZNAME:CST
DTSTART:20231105T020000
TZOFFSETFROM:-0500
TZOFFSETTO:-0600
RDATE:20241103T020000
END:STANDARD
BEGIN:DAYLIGHT
TZNAME:CDT
DTSTART:20230312T020000
TZOFFSETFROM:-0600
TZOFFSETTO:-0500
RDATE:20240310T020000
RDATE:20250309T020000
END:DAYLIGHT
END:VTIMEZONE
BEGIN:VEVENT
UID:216f1ffa-28e5-4be4-b622-e17535d9e5c1
DTSTAMP:20260424T100405Z
DESCRIPTION:
DTSTART;TZID=America/Chicago:20231115T153000
DTEND;TZID=America/Chicago:20231115T163000
LOCATION:
SUMMARY:Cooking Group B
END:VEVENT
END:VCALENDAR
