BEGIN:VCALENDAR
VERSION:2.0
PRODID:-//tandcschool.org//NONSGML kigkonsult.se iCalcreator 2.30.10//
CALSCALE:GREGORIAN
METHOD:PUBLISH
UID:77c73a00-777e-4d90-9246-70ed3fcb03d8
X-WR-CALDESC:
X-WR-RELCALID:03290c7dc96642e2bc9f8ff6f8ad4675
X-WR-TIMEZONE:America/Chicago
BEGIN:VTIMEZONE
TZID:America/Chicago
BEGIN:STANDARD
TZNAME:CST
DTSTART:20231105T020000
TZOFFSETFROM:-0500
TZOFFSETTO:-0600
RDATE:20241103T020000
END:STANDARD
BEGIN:DAYLIGHT
TZNAME:CDT
DTSTART:20230312T020000
TZOFFSETFROM:-0600
TZOFFSETTO:-0500
RDATE:20240310T020000
RDATE:20250309T020000
END:DAYLIGHT
END:VTIMEZONE
BEGIN:VEVENT
UID:26ae5da5-7b62-42b9-950e-8cf1aa53e6e7
DTSTAMP:20260424T100406Z
DESCRIPTION:
DTSTART;TZID=America/Chicago:20231115T153000
DTEND;TZID=America/Chicago:20231115T170000
LOCATION:
SUMMARY:Bowling
END:VEVENT
END:VCALENDAR
