BEGIN:VCALENDAR
VERSION:2.0
PRODID:-//tandcschool.org//NONSGML kigkonsult.se iCalcreator 2.30.10//
CALSCALE:GREGORIAN
METHOD:PUBLISH
UID:2d26f634-4482-4fba-8760-fc119a1e4c06
X-WR-CALDESC:
X-WR-RELCALID:dfee7e91315208c84e2a47a6b56b23fc
X-WR-TIMEZONE:America/Chicago
BEGIN:VTIMEZONE
TZID:America/Chicago
BEGIN:STANDARD
TZNAME:CST
DTSTART:20231105T020000
TZOFFSETFROM:-0500
TZOFFSETTO:-0600
RDATE:20241103T020000
END:STANDARD
BEGIN:DAYLIGHT
TZNAME:CDT
DTSTART:20230312T020000
TZOFFSETFROM:-0600
TZOFFSETTO:-0500
RDATE:20240310T020000
RDATE:20250309T020000
END:DAYLIGHT
END:VTIMEZONE
BEGIN:VEVENT
UID:805b9c32-c273-4f2f-8590-b577332013f9
DTSTAMP:20260424T102627Z
DESCRIPTION:
DTSTART;TZID=America/Chicago:20231114T150000
DTEND;TZID=America/Chicago:20231114T154500
LOCATION:
SUMMARY:HS Lego Club
END:VEVENT
END:VCALENDAR
