BEGIN:VCALENDAR
VERSION:2.0
PRODID:-//tandcschool.org//NONSGML kigkonsult.se iCalcreator 2.30.10//
CALSCALE:GREGORIAN
METHOD:PUBLISH
UID:8faac551-92be-44bf-80ba-8c4a26ce3afe
X-WR-CALDESC:
X-WR-RELCALID:2175736e2d58d3eabaace28a45577309
X-WR-TIMEZONE:America/Chicago
BEGIN:VTIMEZONE
TZID:America/Chicago
BEGIN:STANDARD
TZNAME:CST
DTSTART:20231105T020000
TZOFFSETFROM:-0500
TZOFFSETTO:-0600
RDATE:20241103T020000
END:STANDARD
BEGIN:DAYLIGHT
TZNAME:CDT
DTSTART:20230312T020000
TZOFFSETFROM:-0600
TZOFFSETTO:-0500
RDATE:20240310T020000
RDATE:20250309T020000
END:DAYLIGHT
END:VTIMEZONE
BEGIN:VEVENT
UID:0f88dee2-95b9-4e4f-84b0-5d76257b876a
DTSTAMP:20260424T100558Z
DESCRIPTION:
DTSTART;TZID=America/Chicago:20231114T150000
DTEND;TZID=America/Chicago:20231114T163000
LOCATION:
SUMMARY:Basketball Practice
END:VEVENT
END:VCALENDAR
