BEGIN:VCALENDAR
VERSION:2.0
PRODID:-//tandcschool.org//NONSGML kigkonsult.se iCalcreator 2.30.10//
CALSCALE:GREGORIAN
METHOD:PUBLISH
UID:9fe5b1ab-d56e-4038-95bd-81a417d7030d
X-WR-CALDESC:
X-WR-RELCALID:006f6ec23a72adc4d3df439bf715226c
X-WR-TIMEZONE:America/Chicago
BEGIN:VTIMEZONE
TZID:America/Chicago
BEGIN:STANDARD
TZNAME:CST
DTSTART:20231105T020000
TZOFFSETFROM:-0500
TZOFFSETTO:-0600
RDATE:20241103T020000
END:STANDARD
BEGIN:DAYLIGHT
TZNAME:CDT
DTSTART:20230312T020000
TZOFFSETFROM:-0600
TZOFFSETTO:-0500
RDATE:20240310T020000
RDATE:20250309T020000
END:DAYLIGHT
END:VTIMEZONE
BEGIN:VEVENT
UID:ed883c09-3730-4c18-be2f-275ca3ab2a87
DTSTAMP:20260424T102626Z
DESCRIPTION:
DTSTART;TZID=America/Chicago:20231114T152000
DTEND;TZID=America/Chicago:20231114T160000
LOCATION:
SUMMARY:LS Lego Club
END:VEVENT
END:VCALENDAR
