BEGIN:VCALENDAR
VERSION:2.0
PRODID:-//tandcschool.org//NONSGML kigkonsult.se iCalcreator 2.30.10//
CALSCALE:GREGORIAN
METHOD:PUBLISH
UID:0dca4af7-c087-400a-99ec-3442ed01d703
X-WR-CALDESC:
X-WR-RELCALID:d105d64da716df733d5aeca1084955f8
X-WR-TIMEZONE:America/Chicago
BEGIN:VTIMEZONE
TZID:America/Chicago
BEGIN:STANDARD
TZNAME:CST
DTSTART:20231105T020000
TZOFFSETFROM:-0500
TZOFFSETTO:-0600
RDATE:20241103T020000
END:STANDARD
BEGIN:DAYLIGHT
TZNAME:CDT
DTSTART:20230312T020000
TZOFFSETFROM:-0600
TZOFFSETTO:-0500
RDATE:20240310T020000
RDATE:20250309T020000
END:DAYLIGHT
END:VTIMEZONE
BEGIN:VEVENT
UID:9bb4a88e-459b-4368-a009-acace339b29b
DTSTAMP:20260424T100453Z
DESCRIPTION:
DTSTART;TZID=America/Chicago:20231113T153000
DTEND;TZID=America/Chicago:20231113T163000
LOCATION:
SUMMARY:Cooking Group A
END:VEVENT
END:VCALENDAR
