BEGIN:VCALENDAR
VERSION:2.0
PRODID:-//tandcschool.org//NONSGML kigkonsult.se iCalcreator 2.30.10//
CALSCALE:GREGORIAN
METHOD:PUBLISH
UID:0785a707-95e4-4174-82f0-a101e038fb36
X-WR-CALDESC:
X-WR-RELCALID:9f40ebd81e3272e0c490ad1bc416be39
X-WR-TIMEZONE:America/Chicago
BEGIN:VTIMEZONE
TZID:America/Chicago
BEGIN:STANDARD
TZNAME:CST
DTSTART:20231105T020000
TZOFFSETFROM:-0500
TZOFFSETTO:-0600
RDATE:20241103T020000
END:STANDARD
BEGIN:DAYLIGHT
TZNAME:CDT
DTSTART:20230312T020000
TZOFFSETFROM:-0600
TZOFFSETTO:-0500
RDATE:20240310T020000
RDATE:20250309T020000
END:DAYLIGHT
END:VTIMEZONE
BEGIN:VEVENT
UID:5f3e0c9c-2cc7-429c-ac83-42da5065e7d4
DTSTAMP:20260424T101756Z
DESCRIPTION:
DTSTART;TZID=America/Chicago:20231110T050000
DTEND;TZID=America/Chicago:20231110T050001
LOCATION:
SUMMARY:Free Dress Day
END:VEVENT
END:VCALENDAR
