BEGIN:VCALENDAR
VERSION:2.0
PRODID:-//tandcschool.org//NONSGML kigkonsult.se iCalcreator 2.30.10//
CALSCALE:GREGORIAN
METHOD:PUBLISH
UID:13ed22e8-9c3a-4308-8746-4d3a04b6e81e
X-WR-CALDESC:
X-WR-RELCALID:6538d65354f96516952a1131f150cb57
X-WR-TIMEZONE:America/Chicago
BEGIN:VTIMEZONE
TZID:America/Chicago
BEGIN:STANDARD
TZNAME:CST
DTSTART:20231105T020000
TZOFFSETFROM:-0500
TZOFFSETTO:-0600
RDATE:20241103T020000
END:STANDARD
BEGIN:DAYLIGHT
TZNAME:CDT
DTSTART:20230312T020000
TZOFFSETFROM:-0600
TZOFFSETTO:-0500
RDATE:20240310T020000
RDATE:20250309T020000
END:DAYLIGHT
END:VTIMEZONE
BEGIN:VEVENT
UID:2367bb69-09b9-47f1-a463-a73dd238cb3e
DTSTAMP:20260424T100751Z
DESCRIPTION:
DTSTART;TZID=America/Chicago:20231110T150000
DTEND;TZID=America/Chicago:20231110T154500
LOCATION:
SUMMARY:E-Gaming Club A
END:VEVENT
END:VCALENDAR
