BEGIN:VCALENDAR
VERSION:2.0
PRODID:-//tandcschool.org//NONSGML kigkonsult.se iCalcreator 2.30.10//
CALSCALE:GREGORIAN
METHOD:PUBLISH
UID:e261bbec-9a64-4684-8fb9-4a0e6680fee2
X-WR-CALDESC:
X-WR-RELCALID:f94d55fca9b06b0a89b5b28dd3ff3ffe
X-WR-TIMEZONE:America/Chicago
BEGIN:VTIMEZONE
TZID:America/Chicago
BEGIN:STANDARD
TZNAME:CST
DTSTART:20231105T020000
TZOFFSETFROM:-0500
TZOFFSETTO:-0600
RDATE:20241103T020000
END:STANDARD
BEGIN:DAYLIGHT
TZNAME:CDT
DTSTART:20230312T020000
TZOFFSETFROM:-0600
TZOFFSETTO:-0500
RDATE:20240310T020000
RDATE:20250309T020000
END:DAYLIGHT
END:VTIMEZONE
BEGIN:VEVENT
UID:e3a06705-ed66-476d-b794-afe4aa119083
DTSTAMP:20260424T100659Z
DESCRIPTION:
DTSTART;TZID=America/Chicago:20231110T133000
DTEND;TZID=America/Chicago:20231110T143000
LOCATION:
SUMMARY:Book Fair Ends and Breakdown
END:VEVENT
END:VCALENDAR
