BEGIN:VCALENDAR
VERSION:2.0
PRODID:-//tandcschool.org//NONSGML kigkonsult.se iCalcreator 2.30.10//
CALSCALE:GREGORIAN
METHOD:PUBLISH
UID:d5e79888-4349-4fa7-8df3-3633389fdc2a
X-WR-CALDESC:
X-WR-RELCALID:018173584df13761b83ec3669d3147aa
X-WR-TIMEZONE:America/Chicago
BEGIN:VTIMEZONE
TZID:America/Chicago
BEGIN:STANDARD
TZNAME:CST
DTSTART:20231105T020000
TZOFFSETFROM:-0500
TZOFFSETTO:-0600
RDATE:20241103T020000
END:STANDARD
BEGIN:DAYLIGHT
TZNAME:CDT
DTSTART:20230312T020000
TZOFFSETFROM:-0600
TZOFFSETTO:-0500
RDATE:20240310T020000
RDATE:20250309T020000
END:DAYLIGHT
END:VTIMEZONE
BEGIN:VEVENT
UID:5f578749-6d1c-482b-8e08-2a6109b72b23
DTSTAMP:20260424T101244Z
DESCRIPTION:
DTSTART;TZID=America/Chicago:20231110T150000
DTEND;TZID=America/Chicago:20231110T154500
LOCATION:
SUMMARY:Astronomy Club
END:VEVENT
END:VCALENDAR
