BEGIN:VCALENDAR
VERSION:2.0
PRODID:-//tandcschool.org//NONSGML kigkonsult.se iCalcreator 2.30.10//
CALSCALE:GREGORIAN
METHOD:PUBLISH
UID:be256db1-be8c-4e1b-87aa-74513e098c52
X-WR-CALDESC:
X-WR-RELCALID:c41cd0084adc96497ba0e00c50a6ae1f
X-WR-TIMEZONE:America/Chicago
BEGIN:VTIMEZONE
TZID:America/Chicago
BEGIN:STANDARD
TZNAME:CST
DTSTART:20231105T020000
TZOFFSETFROM:-0500
TZOFFSETTO:-0600
RDATE:20241103T020000
END:STANDARD
BEGIN:DAYLIGHT
TZNAME:CDT
DTSTART:20230312T020000
TZOFFSETFROM:-0600
TZOFFSETTO:-0500
RDATE:20240310T020000
RDATE:20250309T020000
END:DAYLIGHT
END:VTIMEZONE
BEGIN:VEVENT
UID:99a28134-4ae8-4c51-821e-a8ea54850ed9
DTSTAMP:20260424T100529Z
DESCRIPTION:
DTSTART;TZID=America/Chicago:20231109T150000
DTEND;TZID=America/Chicago:20231109T163000
LOCATION:
SUMMARY:Basketball Practice
END:VEVENT
END:VCALENDAR
