BEGIN:VCALENDAR
VERSION:2.0
PRODID:-//tandcschool.org//NONSGML kigkonsult.se iCalcreator 2.30.10//
CALSCALE:GREGORIAN
METHOD:PUBLISH
UID:3d23b727-af6d-421d-93ee-57a8489c143c
X-WR-CALDESC:
X-WR-RELCALID:69e02974ec99baafcb463f82b49babef
X-WR-TIMEZONE:America/Chicago
BEGIN:VTIMEZONE
TZID:America/Chicago
BEGIN:STANDARD
TZNAME:CST
DTSTART:20231105T020000
TZOFFSETFROM:-0500
TZOFFSETTO:-0600
RDATE:20241103T020000
END:STANDARD
BEGIN:DAYLIGHT
TZNAME:CDT
DTSTART:20230312T020000
TZOFFSETFROM:-0600
TZOFFSETTO:-0500
RDATE:20240310T020000
RDATE:20250309T020000
END:DAYLIGHT
END:VTIMEZONE
BEGIN:VEVENT
UID:e79f7d58-d854-4626-82bf-b95ca7f4e525
DTSTAMP:20260424T102516Z
DESCRIPTION:
DTSTART;TZID=America/Chicago:20231109T151500
DTEND;TZID=America/Chicago:20231109T160000
LOCATION:
SUMMARY:Band
END:VEVENT
END:VCALENDAR
