BEGIN:VCALENDAR
VERSION:2.0
PRODID:-//tandcschool.org//NONSGML kigkonsult.se iCalcreator 2.30.10//
CALSCALE:GREGORIAN
METHOD:PUBLISH
UID:ef8c83aa-698b-4f46-976e-84f7e6f2b59c
X-WR-CALDESC:
X-WR-RELCALID:c4e99a31e5cdf5590006870b9d5bbf33
X-WR-TIMEZONE:America/Chicago
BEGIN:VTIMEZONE
TZID:America/Chicago
BEGIN:STANDARD
TZNAME:CST
DTSTART:20231105T020000
TZOFFSETFROM:-0500
TZOFFSETTO:-0600
RDATE:20241103T020000
END:STANDARD
BEGIN:DAYLIGHT
TZNAME:CDT
DTSTART:20230312T020000
TZOFFSETFROM:-0600
TZOFFSETTO:-0500
RDATE:20240310T020000
RDATE:20250309T020000
END:DAYLIGHT
END:VTIMEZONE
BEGIN:VEVENT
UID:3c078620-92dc-4020-b3ed-286d717451ff
DTSTAMP:20260424T100935Z
DESCRIPTION:
DTSTART;TZID=America/Chicago:20231108T152000
DTEND;TZID=America/Chicago:20231108T160000
LOCATION:
SUMMARY:Production Club Auditions Group B
END:VEVENT
END:VCALENDAR
