BEGIN:VCALENDAR
VERSION:2.0
PRODID:-//tandcschool.org//NONSGML kigkonsult.se iCalcreator 2.30.10//
CALSCALE:GREGORIAN
METHOD:PUBLISH
UID:75c6d258-6024-4916-a11b-5f65edf0f1c9
X-WR-CALDESC:
X-WR-RELCALID:592405efdb35a1328612df169321c213
X-WR-TIMEZONE:America/Chicago
BEGIN:VTIMEZONE
TZID:America/Chicago
BEGIN:STANDARD
TZNAME:CST
DTSTART:20231105T020000
TZOFFSETFROM:-0500
TZOFFSETTO:-0600
RDATE:20241103T020000
END:STANDARD
BEGIN:DAYLIGHT
TZNAME:CDT
DTSTART:20230312T020000
TZOFFSETFROM:-0600
TZOFFSETTO:-0500
RDATE:20240310T020000
RDATE:20250309T020000
END:DAYLIGHT
END:VTIMEZONE
BEGIN:VEVENT
UID:2b791e6e-9bd5-41f8-8979-a8ca26a7d9b8
DTSTAMP:20260424T100530Z
DESCRIPTION:
DTSTART;TZID=America/Chicago:20231108T170000
DTEND;TZID=America/Chicago:20231108T180000
LOCATION:
SUMMARY:Parent Group
END:VEVENT
END:VCALENDAR
